BEGIN:VCALENDAR
VERSION:2.0
PRODID:-//Iranian Women&#039;s Organization of Ontario - ECPv6.15.20//NONSGML v1.0//EN
CALSCALE:GREGORIAN
METHOD:PUBLISH
X-ORIGINAL-URL:https://iwontario.com
X-WR-CALDESC:Events for Iranian Women&#039;s Organization of Ontario
REFRESH-INTERVAL;VALUE=DURATION:PT1H
X-Robots-Tag:noindex
X-PUBLISHED-TTL:PT1H
BEGIN:VTIMEZONE
TZID:America/Toronto
BEGIN:DAYLIGHT
TZOFFSETFROM:-0500
TZOFFSETTO:-0400
TZNAME:EDT
DTSTART:20240310T070000
END:DAYLIGHT
BEGIN:STANDARD
TZOFFSETFROM:-0400
TZOFFSETTO:-0500
TZNAME:EST
DTSTART:20241103T060000
END:STANDARD
BEGIN:DAYLIGHT
TZOFFSETFROM:-0500
TZOFFSETTO:-0400
TZNAME:EDT
DTSTART:20250309T070000
END:DAYLIGHT
BEGIN:STANDARD
TZOFFSETFROM:-0400
TZOFFSETTO:-0500
TZNAME:EST
DTSTART:20251102T060000
END:STANDARD
BEGIN:DAYLIGHT
TZOFFSETFROM:-0500
TZOFFSETTO:-0400
TZNAME:EDT
DTSTART:20260308T070000
END:DAYLIGHT
BEGIN:STANDARD
TZOFFSETFROM:-0400
TZOFFSETTO:-0500
TZNAME:EST
DTSTART:20261101T060000
END:STANDARD
END:VTIMEZONE
BEGIN:VEVENT
DTSTART;TZID=America/Toronto:20251103T110000
DTEND;TZID=America/Toronto:20251103T160000
DTSTAMP:20260420T034452
CREATED:20231115T031958Z
LAST-MODIFIED:20251229T210041Z
UID:10222536-1762167600-1762185600@iwontario.com
SUMMARY:Senior Club - In Person
DESCRIPTION:
URL:https://iwontario.com/event/senior-club-in-person/2025-11-03/
LOCATION:ON
CATEGORIES:Family & Senior
END:VEVENT
BEGIN:VEVENT
DTSTART;TZID=America/Toronto:20251106T110000
DTEND;TZID=America/Toronto:20251106T150000
DTSTAMP:20260420T034452
CREATED:20250110T184127Z
LAST-MODIFIED:20250110T184127Z
UID:10219010-1762426800-1762441200@iwontario.com
SUMMARY:Seniors Program
DESCRIPTION:
URL:https://iwontario.com/event/seniors-program/2025-11-06/
LOCATION:ON
CATEGORIES:Family & Senior
ATTACH;FMTTYPE=image/png:/wp-content/uploads/2022/08/asvs-farsi.png
END:VEVENT
BEGIN:VEVENT
DTSTART;TZID=America/Toronto:20251110T110000
DTEND;TZID=America/Toronto:20251110T160000
DTSTAMP:20260420T034452
CREATED:20231115T031958Z
LAST-MODIFIED:20251229T210041Z
UID:10222537-1762772400-1762790400@iwontario.com
SUMMARY:Senior Club - In Person
DESCRIPTION:
URL:https://iwontario.com/event/senior-club-in-person/2025-11-10/
LOCATION:ON
CATEGORIES:Family & Senior
END:VEVENT
BEGIN:VEVENT
DTSTART;TZID=America/Toronto:20251112T180000
DTEND;TZID=America/Toronto:20251112T190000
DTSTAMP:20260420T034452
CREATED:20251001T183735Z
LAST-MODIFIED:20251001T183735Z
UID:10220474-1762970400-1762974000@iwontario.com
SUMMARY:Visitor Visas for  Parents & Relatives (Super Visa)
DESCRIPTION:
URL:https://iwontario.com/event/supervisa/
LOCATION:Online
END:VEVENT
BEGIN:VEVENT
DTSTART;TZID=America/Toronto:20251113T110000
DTEND;TZID=America/Toronto:20251113T150000
DTSTAMP:20260420T034452
CREATED:20250110T184127Z
LAST-MODIFIED:20250110T184127Z
UID:10219011-1763031600-1763046000@iwontario.com
SUMMARY:Seniors Program
DESCRIPTION:
URL:https://iwontario.com/event/seniors-program/2025-11-13/
LOCATION:ON
CATEGORIES:Family & Senior
ATTACH;FMTTYPE=image/png:/wp-content/uploads/2022/08/asvs-farsi.png
END:VEVENT
BEGIN:VEVENT
DTSTART;TZID=America/Toronto:20251117T110000
DTEND;TZID=America/Toronto:20251117T160000
DTSTAMP:20260420T034452
CREATED:20231115T031958Z
LAST-MODIFIED:20251229T210041Z
UID:10222538-1763377200-1763395200@iwontario.com
SUMMARY:Senior Club - In Person
DESCRIPTION:
URL:https://iwontario.com/event/senior-club-in-person/2025-11-17/
LOCATION:ON
CATEGORIES:Family & Senior
END:VEVENT
BEGIN:VEVENT
DTSTART;TZID=America/Toronto:20251120T110000
DTEND;TZID=America/Toronto:20251120T150000
DTSTAMP:20260420T034452
CREATED:20250110T184127Z
LAST-MODIFIED:20250110T184127Z
UID:10219012-1763636400-1763650800@iwontario.com
SUMMARY:Seniors Program
DESCRIPTION:
URL:https://iwontario.com/event/seniors-program/2025-11-20/
LOCATION:ON
CATEGORIES:Family & Senior
ATTACH;FMTTYPE=image/png:/wp-content/uploads/2022/08/asvs-farsi.png
END:VEVENT
BEGIN:VEVENT
DTSTART;TZID=America/Toronto:20251121T180000
DTEND;TZID=America/Toronto:20251121T230000
DTSTAMP:20260420T034452
CREATED:20250910T192718Z
LAST-MODIFIED:20251120T175513Z
UID:10220470-1763748000-1763766000@iwontario.com
SUMMARY:2025 Annual Gala
DESCRIPTION:Join us for an unforgettable evening at the IWOO 2025 Gala\, where we come together to celebrate the power of mindfulness and community. Our theme\, “Empowered Women\, Peaceful World” reflects our commitment to fostering resilience\, compassion\, and unity. By attending this prestigious event\, you will not only enjoy a night of elegance\, entertainment\, and networking but also contribute to the vital work we do in strengthening our communities. \nDon’t miss out on this extraordinary event. Secure your spot at the IWOO 2025 Gala today and be part of a movement that is making a real difference.
URL:https://iwontario.com/event/gala2025/
LOCATION:Sheraton Parkway Toronto North Hotel & Suites\, 600 Hwy 7\, Richmond Hill\, Ontario\, L4B 1B2\, Canada
END:VEVENT
BEGIN:VEVENT
DTSTART;TZID=America/Toronto:20251124T110000
DTEND;TZID=America/Toronto:20251124T160000
DTSTAMP:20260420T034452
CREATED:20231115T031958Z
LAST-MODIFIED:20251229T210041Z
UID:10222539-1763982000-1764000000@iwontario.com
SUMMARY:Senior Club - In Person
DESCRIPTION:
URL:https://iwontario.com/event/senior-club-in-person/2025-11-24/
LOCATION:ON
CATEGORIES:Family & Senior
END:VEVENT
BEGIN:VEVENT
DTSTART;TZID=America/Toronto:20251127T110000
DTEND;TZID=America/Toronto:20251127T150000
DTSTAMP:20260420T034452
CREATED:20250110T184127Z
LAST-MODIFIED:20250110T184127Z
UID:10219013-1764241200-1764255600@iwontario.com
SUMMARY:Seniors Program
DESCRIPTION:
URL:https://iwontario.com/event/seniors-program/2025-11-27/
LOCATION:ON
CATEGORIES:Family & Senior
ATTACH;FMTTYPE=image/png:/wp-content/uploads/2022/08/asvs-farsi.png
END:VEVENT
END:VCALENDAR