BEGIN:VCALENDAR
VERSION:2.0
PRODID:-//Iranian Women&#039;s Organization of Ontario - ECPv6.15.20//NONSGML v1.0//EN
CALSCALE:GREGORIAN
METHOD:PUBLISH
X-ORIGINAL-URL:https://iwontario.com
X-WR-CALDESC:Events for Iranian Women&#039;s Organization of Ontario
REFRESH-INTERVAL;VALUE=DURATION:PT1H
X-Robots-Tag:noindex
X-PUBLISHED-TTL:PT1H
BEGIN:VTIMEZONE
TZID:America/Toronto
BEGIN:DAYLIGHT
TZOFFSETFROM:-0500
TZOFFSETTO:-0400
TZNAME:EDT
DTSTART:20230312T070000
END:DAYLIGHT
BEGIN:STANDARD
TZOFFSETFROM:-0400
TZOFFSETTO:-0500
TZNAME:EST
DTSTART:20231105T060000
END:STANDARD
BEGIN:DAYLIGHT
TZOFFSETFROM:-0500
TZOFFSETTO:-0400
TZNAME:EDT
DTSTART:20240310T070000
END:DAYLIGHT
BEGIN:STANDARD
TZOFFSETFROM:-0400
TZOFFSETTO:-0500
TZNAME:EST
DTSTART:20241103T060000
END:STANDARD
BEGIN:DAYLIGHT
TZOFFSETFROM:-0500
TZOFFSETTO:-0400
TZNAME:EDT
DTSTART:20250309T070000
END:DAYLIGHT
BEGIN:STANDARD
TZOFFSETFROM:-0400
TZOFFSETTO:-0500
TZNAME:EST
DTSTART:20251102T060000
END:STANDARD
END:VTIMEZONE
BEGIN:VEVENT
DTSTART;TZID=America/Toronto:20241202T110000
DTEND;TZID=America/Toronto:20241202T160000
DTSTAMP:20260422T051309
CREATED:20231115T031958Z
LAST-MODIFIED:20251229T210041Z
UID:10222488-1733137200-1733155200@iwontario.com
SUMMARY:Senior Club - In Person
DESCRIPTION:
URL:https://iwontario.com/event/senior-club-in-person/2024-12-02/
LOCATION:ON
CATEGORIES:Family & Senior
END:VEVENT
BEGIN:VEVENT
DTSTART;TZID=America/Toronto:20241205T110000
DTEND;TZID=America/Toronto:20241205T150000
DTSTAMP:20260422T051309
CREATED:20250110T184127Z
LAST-MODIFIED:20250110T184127Z
UID:10218962-1733396400-1733410800@iwontario.com
SUMMARY:Seniors Program
DESCRIPTION:
URL:https://iwontario.com/event/seniors-program/2024-12-05/
LOCATION:ON
CATEGORIES:Family & Senior
ATTACH;FMTTYPE=image/png:/wp-content/uploads/2022/08/asvs-farsi.png
END:VEVENT
BEGIN:VEVENT
DTSTART;TZID=America/Toronto:20241209T110000
DTEND;TZID=America/Toronto:20241209T160000
DTSTAMP:20260422T051309
CREATED:20231115T031958Z
LAST-MODIFIED:20251229T210041Z
UID:10222489-1733742000-1733760000@iwontario.com
SUMMARY:Senior Club - In Person
DESCRIPTION:
URL:https://iwontario.com/event/senior-club-in-person/2024-12-09/
LOCATION:ON
CATEGORIES:Family & Senior
END:VEVENT
BEGIN:VEVENT
DTSTART;TZID=America/Toronto:20241212T110000
DTEND;TZID=America/Toronto:20241212T150000
DTSTAMP:20260422T051309
CREATED:20250110T184127Z
LAST-MODIFIED:20250110T184127Z
UID:10218963-1734001200-1734015600@iwontario.com
SUMMARY:Seniors Program
DESCRIPTION:
URL:https://iwontario.com/event/seniors-program/2024-12-12/
LOCATION:ON
CATEGORIES:Family & Senior
ATTACH;FMTTYPE=image/png:/wp-content/uploads/2022/08/asvs-farsi.png
END:VEVENT
BEGIN:VEVENT
DTSTART;TZID=America/Toronto:20241216T110000
DTEND;TZID=America/Toronto:20241216T160000
DTSTAMP:20260422T051309
CREATED:20231115T031958Z
LAST-MODIFIED:20251229T210041Z
UID:10222490-1734346800-1734364800@iwontario.com
SUMMARY:Senior Club - In Person
DESCRIPTION:
URL:https://iwontario.com/event/senior-club-in-person/2024-12-16/
LOCATION:ON
CATEGORIES:Family & Senior
END:VEVENT
BEGIN:VEVENT
DTSTART;TZID=America/Toronto:20241219T110000
DTEND;TZID=America/Toronto:20241219T150000
DTSTAMP:20260422T051309
CREATED:20250110T184127Z
LAST-MODIFIED:20250110T184127Z
UID:10218964-1734606000-1734620400@iwontario.com
SUMMARY:Seniors Program
DESCRIPTION:
URL:https://iwontario.com/event/seniors-program/2024-12-19/
LOCATION:ON
CATEGORIES:Family & Senior
ATTACH;FMTTYPE=image/png:/wp-content/uploads/2022/08/asvs-farsi.png
END:VEVENT
BEGIN:VEVENT
DTSTART;TZID=America/Toronto:20241223T110000
DTEND;TZID=America/Toronto:20241223T160000
DTSTAMP:20260422T051309
CREATED:20231115T031958Z
LAST-MODIFIED:20251229T210041Z
UID:10222491-1734951600-1734969600@iwontario.com
SUMMARY:Senior Club - In Person
DESCRIPTION:
URL:https://iwontario.com/event/senior-club-in-person/2024-12-23/
LOCATION:ON
CATEGORIES:Family & Senior
END:VEVENT
BEGIN:VEVENT
DTSTART;TZID=America/Toronto:20241226T110000
DTEND;TZID=America/Toronto:20241226T150000
DTSTAMP:20260422T051309
CREATED:20250110T184127Z
LAST-MODIFIED:20250110T184127Z
UID:10218965-1735210800-1735225200@iwontario.com
SUMMARY:Seniors Program
DESCRIPTION:
URL:https://iwontario.com/event/seniors-program/2024-12-26/
LOCATION:ON
CATEGORIES:Family & Senior
ATTACH;FMTTYPE=image/png:/wp-content/uploads/2022/08/asvs-farsi.png
END:VEVENT
BEGIN:VEVENT
DTSTART;TZID=America/Toronto:20241230T110000
DTEND;TZID=America/Toronto:20241230T160000
DTSTAMP:20260422T051310
CREATED:20231115T031958Z
LAST-MODIFIED:20251229T210041Z
UID:10222492-1735556400-1735574400@iwontario.com
SUMMARY:Senior Club - In Person
DESCRIPTION:
URL:https://iwontario.com/event/senior-club-in-person/2024-12-30/
LOCATION:ON
CATEGORIES:Family & Senior
END:VEVENT
END:VCALENDAR