BEGIN:VCALENDAR
VERSION:2.0
PRODID:-//Iranian Women&#039;s Organization of Ontario - ECPv6.15.20//NONSGML v1.0//EN
CALSCALE:GREGORIAN
METHOD:PUBLISH
X-WR-CALNAME:Iranian Women&#039;s Organization of Ontario
X-ORIGINAL-URL:https://iwontario.com
X-WR-CALDESC:Events for Iranian Women&#039;s Organization of Ontario
REFRESH-INTERVAL;VALUE=DURATION:PT1H
X-Robots-Tag:noindex
X-PUBLISHED-TTL:PT1H
BEGIN:VTIMEZONE
TZID:America/Toronto
BEGIN:DAYLIGHT
TZOFFSETFROM:-0500
TZOFFSETTO:-0400
TZNAME:EDT
DTSTART:20230312T070000
END:DAYLIGHT
BEGIN:STANDARD
TZOFFSETFROM:-0400
TZOFFSETTO:-0500
TZNAME:EST
DTSTART:20231105T060000
END:STANDARD
BEGIN:DAYLIGHT
TZOFFSETFROM:-0500
TZOFFSETTO:-0400
TZNAME:EDT
DTSTART:20240310T070000
END:DAYLIGHT
BEGIN:STANDARD
TZOFFSETFROM:-0400
TZOFFSETTO:-0500
TZNAME:EST
DTSTART:20241103T060000
END:STANDARD
BEGIN:DAYLIGHT
TZOFFSETFROM:-0500
TZOFFSETTO:-0400
TZNAME:EDT
DTSTART:20250309T070000
END:DAYLIGHT
BEGIN:STANDARD
TZOFFSETFROM:-0400
TZOFFSETTO:-0500
TZNAME:EST
DTSTART:20251102T060000
END:STANDARD
END:VTIMEZONE
BEGIN:VEVENT
DTSTART;TZID=America/Toronto:20241004T180000
DTEND;TZID=America/Toronto:20241004T230000
DTSTAMP:20260420T114805
CREATED:20240711T180940Z
LAST-MODIFIED:20240926T222027Z
UID:10216143-1728064800-1728082800@iwontario.com
SUMMARY:IWOO 2024 Gala
DESCRIPTION:Please note that tickets are non-refundable
URL:https://iwontario.com/event/2024-gala/
LOCATION:Parkview Manor\, 55 Barber Greene Rd #1\, North York\, Ontario\, M3C 2A1\, Canada
ATTACH;FMTTYPE=image/png:/wp-content/uploads/2024/07/additional-info-en.png
END:VEVENT
BEGIN:VEVENT
DTSTART;TZID=America/Toronto:20241007T110000
DTEND;TZID=America/Toronto:20241007T160000
DTSTAMP:20260420T114806
CREATED:20231115T031958Z
LAST-MODIFIED:20251229T210041Z
UID:10222480-1728298800-1728316800@iwontario.com
SUMMARY:Senior Club - In Person
DESCRIPTION:
URL:https://iwontario.com/event/senior-club-in-person/2024-10-07/
LOCATION:ON
CATEGORIES:Family & Senior
END:VEVENT
BEGIN:VEVENT
DTSTART;TZID=America/Toronto:20241014T110000
DTEND;TZID=America/Toronto:20241014T160000
DTSTAMP:20260420T114806
CREATED:20231115T031958Z
LAST-MODIFIED:20251229T210041Z
UID:10222481-1728903600-1728921600@iwontario.com
SUMMARY:Senior Club - In Person
DESCRIPTION:
URL:https://iwontario.com/event/senior-club-in-person/2024-10-14/
LOCATION:ON
CATEGORIES:Family & Senior
END:VEVENT
BEGIN:VEVENT
DTSTART;TZID=America/Toronto:20241021T110000
DTEND;TZID=America/Toronto:20241021T160000
DTSTAMP:20260420T114806
CREATED:20231115T031958Z
LAST-MODIFIED:20251229T210041Z
UID:10222482-1729508400-1729526400@iwontario.com
SUMMARY:Senior Club - In Person
DESCRIPTION:
URL:https://iwontario.com/event/senior-club-in-person/2024-10-21/
LOCATION:ON
CATEGORIES:Family & Senior
END:VEVENT
BEGIN:VEVENT
DTSTART;TZID=America/Toronto:20241028T110000
DTEND;TZID=America/Toronto:20241028T160000
DTSTAMP:20260420T114806
CREATED:20231115T031958Z
LAST-MODIFIED:20251229T210041Z
UID:10222483-1730113200-1730131200@iwontario.com
SUMMARY:Senior Club - In Person
DESCRIPTION:
URL:https://iwontario.com/event/senior-club-in-person/2024-10-28/
LOCATION:ON
CATEGORIES:Family & Senior
END:VEVENT
END:VCALENDAR