BEGIN:VCALENDAR
VERSION:2.0
PRODID:-//Iranian Women&#039;s Organization of Ontario - ECPv6.15.20//NONSGML v1.0//EN
CALSCALE:GREGORIAN
METHOD:PUBLISH
X-WR-CALNAME:Iranian Women&#039;s Organization of Ontario
X-ORIGINAL-URL:https://iwontario.com
X-WR-CALDESC:Events for Iranian Women&#039;s Organization of Ontario
REFRESH-INTERVAL;VALUE=DURATION:PT1H
X-Robots-Tag:noindex
X-PUBLISHED-TTL:PT1H
BEGIN:VTIMEZONE
TZID:America/Toronto
BEGIN:DAYLIGHT
TZOFFSETFROM:-0500
TZOFFSETTO:-0400
TZNAME:EDT
DTSTART:20250309T070000
END:DAYLIGHT
BEGIN:STANDARD
TZOFFSETFROM:-0400
TZOFFSETTO:-0500
TZNAME:EST
DTSTART:20251102T060000
END:STANDARD
BEGIN:DAYLIGHT
TZOFFSETFROM:-0500
TZOFFSETTO:-0400
TZNAME:EDT
DTSTART:20260308T070000
END:DAYLIGHT
BEGIN:STANDARD
TZOFFSETFROM:-0400
TZOFFSETTO:-0500
TZNAME:EST
DTSTART:20261101T060000
END:STANDARD
BEGIN:DAYLIGHT
TZOFFSETFROM:-0500
TZOFFSETTO:-0400
TZNAME:EDT
DTSTART:20270314T070000
END:DAYLIGHT
BEGIN:STANDARD
TZOFFSETFROM:-0400
TZOFFSETTO:-0500
TZNAME:EST
DTSTART:20271107T060000
END:STANDARD
END:VTIMEZONE
BEGIN:VEVENT
DTSTART;TZID=America/Toronto:20260507T160000
DTEND;TZID=America/Toronto:20260507T170000
DTSTAMP:20260422T225631
CREATED:20251230T182556Z
LAST-MODIFIED:20260107T210207Z
UID:10223914-1778169600-1778173200@iwontario.com
SUMMARY:Zumba - In person
DESCRIPTION:
URL:https://iwontario.com/event/zumba-in-person/2026-05-07/
LOCATION:Parkway Forest Community Centre\, 55 Parkway Forest Rd. 2nd Floor\, Toronto\, Ontario\, M2J 1G3\, Canada
END:VEVENT
BEGIN:VEVENT
DTSTART;TZID=America/Toronto:20260507T170000
DTEND;TZID=America/Toronto:20260507T180000
DTSTAMP:20260422T225631
CREATED:20251230T183012Z
LAST-MODIFIED:20260107T210158Z
UID:10224018-1778173200-1778176800@iwontario.com
SUMMARY:Yoga Class - In person
DESCRIPTION:
URL:https://iwontario.com/event/yoga-in-person/2026-05-07/
LOCATION:Parkway Forest Community Centre\, 55 Parkway Forest Rd. 2nd Floor\, Toronto\, Ontario\, M2J 1G3\, Canada
END:VEVENT
BEGIN:VEVENT
DTSTART;TZID=America/Toronto:20260507T190000
DTEND;TZID=America/Toronto:20260507T220000
DTSTAMP:20260422T225631
CREATED:20251230T184316Z
LAST-MODIFIED:20260106T035332Z
UID:10224095-1778180400-1778191200@iwontario.com
SUMMARY:Choir Class - In person
DESCRIPTION:
URL:https://iwontario.com/event/choir-class-in-person/2026-05-07/
LOCATION:1761 Sheppar Ave E\, 1761 Sheppard Avenue East\, Toronto\, ON\, M2J 0A5\, Canada
END:VEVENT
BEGIN:VEVENT
DTSTART;TZID=America/Toronto:20260508T090000
DTEND;TZID=America/Toronto:20260508T170000
DTSTAMP:20260422T225631
CREATED:20260106T172150Z
LAST-MODIFIED:20260106T172150Z
UID:10224609-1778230800-1778259600@iwontario.com
SUMMARY:Mental Health Clinic
DESCRIPTION:
URL:https://iwontario.com/event/mental-health-clinic/2026-05-08/
LOCATION:1761 Sheppar Ave E\, 1761 Sheppard Avenue East\, Toronto\, ON\, M2J 0A5\, Canada
END:VEVENT
END:VCALENDAR