BEGIN:VCALENDAR
VERSION:2.0
PRODID:-//Iranian Women&#039;s Organization of Ontario - ECPv6.15.20//NONSGML v1.0//EN
CALSCALE:GREGORIAN
METHOD:PUBLISH
X-WR-CALNAME:Iranian Women&#039;s Organization of Ontario
X-ORIGINAL-URL:https://iwontario.com
X-WR-CALDESC:Events for Iranian Women&#039;s Organization of Ontario
REFRESH-INTERVAL;VALUE=DURATION:PT1H
X-Robots-Tag:noindex
X-PUBLISHED-TTL:PT1H
BEGIN:VTIMEZONE
TZID:America/Toronto
BEGIN:DAYLIGHT
TZOFFSETFROM:-0500
TZOFFSETTO:-0400
TZNAME:EDT
DTSTART:20250309T070000
END:DAYLIGHT
BEGIN:STANDARD
TZOFFSETFROM:-0400
TZOFFSETTO:-0500
TZNAME:EST
DTSTART:20251102T060000
END:STANDARD
BEGIN:DAYLIGHT
TZOFFSETFROM:-0500
TZOFFSETTO:-0400
TZNAME:EDT
DTSTART:20260308T070000
END:DAYLIGHT
BEGIN:STANDARD
TZOFFSETFROM:-0400
TZOFFSETTO:-0500
TZNAME:EST
DTSTART:20261101T060000
END:STANDARD
BEGIN:DAYLIGHT
TZOFFSETFROM:-0500
TZOFFSETTO:-0400
TZNAME:EDT
DTSTART:20270314T070000
END:DAYLIGHT
BEGIN:STANDARD
TZOFFSETFROM:-0400
TZOFFSETTO:-0500
TZNAME:EST
DTSTART:20271107T060000
END:STANDARD
END:VTIMEZONE
BEGIN:VEVENT
DTSTART;TZID=America/Toronto:20260331T093000
DTEND;TZID=America/Toronto:20260331T110000
DTSTAMP:20260425T222352
CREATED:20251230T153859Z
LAST-MODIFIED:20260106T035408Z
UID:10223867-1774949400-1774954800@iwontario.com
SUMMARY:English Conversation Class Intermediate Level
DESCRIPTION:
URL:https://iwontario.com/event/eccl2/2026-03-31/
LOCATION:Online
ATTACH;FMTTYPE=image/png:/wp-content/uploads/2025/12/english-class-scaled.png
END:VEVENT
BEGIN:VEVENT
DTSTART;TZID=America/Toronto:20260331T100000
DTEND;TZID=America/Toronto:20260331T130000
DTSTAMP:20260425T222352
CREATED:20251230T175058Z
LAST-MODIFIED:20260106T035405Z
UID:10223651-1774951200-1774962000@iwontario.com
SUMMARY:Job Assistant Counselling - online
DESCRIPTION:
URL:https://iwontario.com/event/job-assistant-counselling-online/2026-03-31/
LOCATION:Online
END:VEVENT
BEGIN:VEVENT
DTSTART;TZID=America/Toronto:20260331T100000
DTEND;TZID=America/Toronto:20260331T130000
DTSTAMP:20260425T222352
CREATED:20260127T214249Z
LAST-MODIFIED:20260127T214431Z
UID:10224865-1774951200-1774962000@iwontario.com
SUMMARY:Looking for a strong start to your career?
DESCRIPTION:
URL:https://iwontario.com/event/looking-for-a-strong-start-to-your-career/2026-03-31/
LOCATION:Online
ATTACH;FMTTYPE=image/png:/wp-content/uploads/2026/01/career.png
END:VEVENT
BEGIN:VEVENT
DTSTART;TZID=America/Toronto:20260331T113000
DTEND;TZID=America/Toronto:20260331T130000
DTSTAMP:20260425T222352
CREATED:20251229T195534Z
LAST-MODIFIED:20260106T035400Z
UID:10222191-1774956600-1774962000@iwontario.com
SUMMARY:Let's Speak English - Online
DESCRIPTION:
URL:https://iwontario.com/event/lets-speak-english-26/2026-03-31/
LOCATION:Online
CATEGORIES:Settlement & Newcomer
END:VEVENT
BEGIN:VEVENT
DTSTART;TZID=America/Toronto:20260331T173000
DTEND;TZID=America/Toronto:20260331T190000
DTSTAMP:20260425T222352
CREATED:20251216T211033Z
LAST-MODIFIED:20260106T035250Z
UID:10223435-1774978200-1774983600@iwontario.com
SUMMARY:شاهنامه خوانی
DESCRIPTION:
URL:https://iwontario.com/event/shread/2026-03-31/
LOCATION:Online
CATEGORIES:Art & Culture
ATTACH;FMTTYPE=image/png:/wp-content/uploads/2025/12/Shahnameh-Reading-scaled.png
END:VEVENT
BEGIN:VEVENT
DTSTART;TZID=America/Toronto:20260406T190000
DTEND;TZID=America/Toronto:20260406T210000
DTSTAMP:20260425T222352
CREATED:20251224T160353Z
LAST-MODIFIED:20260106T035323Z
UID:10224197-1775502000-1775509200@iwontario.com
SUMMARY:Book Club
DESCRIPTION:
URL:https://iwontario.com/event/book-club/2026-04-06/
LOCATION:Online
END:VEVENT
BEGIN:VEVENT
DTSTART;TZID=America/Toronto:20260424T180000
DTEND;TZID=America/Toronto:20260424T200000
DTSTAMP:20260425T222352
CREATED:20260413T162213Z
LAST-MODIFIED:20260422T165804Z
UID:10225134-1777053600-1777060800@iwontario.com
SUMMARY:Crochet Flowers Art Night
DESCRIPTION:
URL:https://iwontario.com/event/cfan/
LOCATION:1761 Sheppar Ave E\, 1761 Sheppard Avenue East\, Toronto\, ON\, M2J 0A5\, Canada
CATEGORIES:Art & Culture
ATTACH;FMTTYPE=image/jpeg:/wp-content/uploads/2026/04/c6e15c74-10de-4ff3-8322-c142b880113b.jpeg
END:VEVENT
BEGIN:VEVENT
DTSTART;TZID=America/Toronto:20260430T173000
DTEND;TZID=America/Toronto:20260430T190000
DTSTAMP:20260425T222352
CREATED:20260102T171828Z
LAST-MODIFIED:20260414T142220Z
UID:10224323-1777570200-1777575600@iwontario.com
SUMMARY:Building Strong Relationships Through Effective Communication Information Session
DESCRIPTION:
URL:https://iwontario.com/event/bsrtec/
LOCATION:Online
ATTACH;FMTTYPE=image/png:/wp-content/uploads/2026/01/building-strong-relationships-scaled.png
END:VEVENT
BEGIN:VEVENT
DTSTART;TZID=America/Toronto:20260506T180000
DTEND;TZID=America/Toronto:20260506T193000
DTSTAMP:20260425T222352
CREATED:20260102T173606Z
LAST-MODIFIED:20260106T035245Z
UID:10224324-1778090400-1778095800@iwontario.com
SUMMARY:Building Healthy Relationships
DESCRIPTION:1- Key to a healthy relationship\n2- Navigating Conflict with Care and Understanding\n3- The foundation of a lasting connection\n4- Effective communication\n5- Science of Love\n6- How to foster a flourishing relationship?
URL:https://iwontario.com/event/bhr/2026-05-06/
LOCATION:Online
ATTACH;FMTTYPE=image/png:/wp-content/uploads/2026/01/building-healthy-relationships.png
END:VEVENT
END:VCALENDAR