BEGIN:VCALENDAR
VERSION:2.0
PRODID:-//Iranian Women&#039;s Organization of Ontario - ECPv6.15.20//NONSGML v1.0//EN
CALSCALE:GREGORIAN
METHOD:PUBLISH
X-WR-CALNAME:Iranian Women&#039;s Organization of Ontario
X-ORIGINAL-URL:https://iwontario.com
X-WR-CALDESC:Events for Iranian Women&#039;s Organization of Ontario
REFRESH-INTERVAL;VALUE=DURATION:PT1H
X-Robots-Tag:noindex
X-PUBLISHED-TTL:PT1H
BEGIN:VTIMEZONE
TZID:America/Toronto
BEGIN:DAYLIGHT
TZOFFSETFROM:-0500
TZOFFSETTO:-0400
TZNAME:EDT
DTSTART:20240310T070000
END:DAYLIGHT
BEGIN:STANDARD
TZOFFSETFROM:-0400
TZOFFSETTO:-0500
TZNAME:EST
DTSTART:20241103T060000
END:STANDARD
BEGIN:DAYLIGHT
TZOFFSETFROM:-0500
TZOFFSETTO:-0400
TZNAME:EDT
DTSTART:20250309T070000
END:DAYLIGHT
BEGIN:STANDARD
TZOFFSETFROM:-0400
TZOFFSETTO:-0500
TZNAME:EST
DTSTART:20251102T060000
END:STANDARD
BEGIN:DAYLIGHT
TZOFFSETFROM:-0500
TZOFFSETTO:-0400
TZNAME:EDT
DTSTART:20260308T070000
END:DAYLIGHT
BEGIN:STANDARD
TZOFFSETFROM:-0400
TZOFFSETTO:-0500
TZNAME:EST
DTSTART:20261101T060000
END:STANDARD
BEGIN:DAYLIGHT
TZOFFSETFROM:-0500
TZOFFSETTO:-0400
TZNAME:EDT
DTSTART:20270314T070000
END:DAYLIGHT
BEGIN:STANDARD
TZOFFSETFROM:-0400
TZOFFSETTO:-0500
TZNAME:EST
DTSTART:20271107T060000
END:STANDARD
END:VTIMEZONE
BEGIN:VEVENT
DTSTART;TZID=America/Toronto:20250327T110000
DTEND;TZID=America/Toronto:20250327T150000
DTSTAMP:20260422T225405
CREATED:20250110T184127Z
LAST-MODIFIED:20250110T184127Z
UID:10218978-1743073200-1743087600@iwontario.com
SUMMARY:Seniors Program
DESCRIPTION:
URL:https://iwontario.com/event/seniors-program/2025-03-27/
CATEGORIES:Family & Senior
ATTACH;FMTTYPE=image/png:/wp-content/uploads/2022/08/asvs-farsi.png
END:VEVENT
BEGIN:VEVENT
DTSTART;TZID=America/Toronto:20250331T110000
DTEND;TZID=America/Toronto:20250331T160000
DTSTAMP:20260422T225405
CREATED:20231115T031958Z
LAST-MODIFIED:20251229T210041Z
UID:10222505-1743418800-1743436800@iwontario.com
SUMMARY:Senior Club - In Person
DESCRIPTION:
URL:https://iwontario.com/event/senior-club-in-person/2025-03-31/
CATEGORIES:Family & Senior
END:VEVENT
BEGIN:VEVENT
DTSTART;TZID=America/Toronto:20250817T150000
DTEND;TZID=America/Toronto:20250817T180000
DTSTAMP:20260422T225405
CREATED:20250721T151716Z
LAST-MODIFIED:20250721T152258Z
UID:10220468-1755442800-1755453600@iwontario.com
SUMMARY:Kids Fashion Workshop
DESCRIPTION:
URL:https://iwontario.com/event/kids-fashion-workshop/
CATEGORIES:Family & Senior
ATTACH;FMTTYPE=image/jpeg:/wp-content/uploads/2025/07/kids.jpg
END:VEVENT
BEGIN:VEVENT
DTSTART;TZID=America/Toronto:20250925T180000
DTEND;TZID=America/Toronto:20250925T193000
DTSTAMP:20260422T225405
CREATED:20250917T163822Z
LAST-MODIFIED:20250917T163843Z
UID:10220471-1758823200-1758828600@iwontario.com
SUMMARY:Raising Awareness for Suicide Prevention
DESCRIPTION:
URL:https://iwontario.com/event/rasp/
LOCATION:Online
CATEGORIES:Mental Health
END:VEVENT
BEGIN:VEVENT
DTSTART;TZID=America/Toronto:20251015T110000
DTEND;TZID=America/Toronto:20251015T120000
DTSTAMP:20260422T225405
CREATED:20250926T141240Z
LAST-MODIFIED:20251009T002815Z
UID:10220473-1760526000-1760529600@iwontario.com
SUMMARY:Elder Abuse Awareness
DESCRIPTION:
URL:https://iwontario.com/event/eaa/
LOCATION:Online
CATEGORIES:Family & Senior
END:VEVENT
BEGIN:VEVENT
DTSTART;TZID=America/Toronto:20251024T180000
DTEND;TZID=America/Toronto:20251024T200000
DTSTAMP:20260422T225406
CREATED:20250910T174308Z
LAST-MODIFIED:20250910T180646Z
UID:10220469-1761328800-1761336000@iwontario.com
SUMMARY:2025 Annual General Meeting
DESCRIPTION:We are delighted to invite you to join us for the IWOO 2025 Annual General Meeting\, taking place on Friday\, October 24\, 2025. Your presence as a valued member of our community is truly appreciated. \nPlease see the attached flyer for additional details. \n📅 Date: Friday\, October 24\, 2025\n⏰ Time: 6-8 PM\n📍 Location: Parkway Forest Community Centre\n55 Parkway Forest Rd.\, 2nd Floor\, Toronto\, ON \nTo confirm your attendance\, please register by October 10 \nIf you’re unable to attend in person\, you may appoint someone to vote on your behalf by proxy. Kindly proceed through this link: https://forms.gle/Nud9z6PaMsKeizeM8 \nWe look forward to celebrating our milestones and sharing exciting updates with you at the AGM!
URL:https://iwontario.com/event/agm2025/
LOCATION:Parkway Forest Community Centre\, 55 Parkway Forest Rd. 2nd Floor\, Toronto\, Ontario\, M2J 1G3\, Canada
END:VEVENT
BEGIN:VEVENT
DTSTART;TZID=America/Toronto:20251028T173000
DTEND;TZID=America/Toronto:20251028T183000
DTSTAMP:20260422T225406
CREATED:20250926T141033Z
LAST-MODIFIED:20250926T141103Z
UID:10220472-1761672600-1761676200@iwontario.com
SUMMARY:Journey from Darkness to Light: A Guide to Exploring Rumi’s Poetry
DESCRIPTION:
URL:https://iwontario.com/event/jfdl/
LOCATION:Online
CATEGORIES:Mental Health
END:VEVENT
BEGIN:VEVENT
DTSTART;TZID=America/Toronto:20251030T180000
DTEND;TZID=America/Toronto:20251030T193000
DTSTAMP:20260422T225406
CREATED:20251009T002549Z
LAST-MODIFIED:20251009T002608Z
UID:10220475-1761847200-1761852600@iwontario.com
SUMMARY:Time Management Webinar
DESCRIPTION:“Your Mind\, Your Time\, Your Life”\nOvercoming Procrastination and Delays\nFrom Chaos to Order\nPractical and Actionable Techniques
URL:https://iwontario.com/event/tmw/
LOCATION:Online
CATEGORIES:Mental Health
ATTACH;FMTTYPE=image/png:/wp-content/uploads/2025/10/Time-Management-Webinar-English-scaled.png
END:VEVENT
BEGIN:VEVENT
DTSTART;TZID=America/Toronto:20251112T180000
DTEND;TZID=America/Toronto:20251112T190000
DTSTAMP:20260422T225406
CREATED:20251001T183735Z
LAST-MODIFIED:20251001T183735Z
UID:10220474-1762970400-1762974000@iwontario.com
SUMMARY:Visitor Visas for  Parents & Relatives (Super Visa)
DESCRIPTION:
URL:https://iwontario.com/event/supervisa/
LOCATION:Online
END:VEVENT
BEGIN:VEVENT
DTSTART;TZID=America/Toronto:20251121T180000
DTEND;TZID=America/Toronto:20251121T230000
DTSTAMP:20260422T225406
CREATED:20250910T192718Z
LAST-MODIFIED:20251120T175513Z
UID:10220470-1763748000-1763766000@iwontario.com
SUMMARY:2025 Annual Gala
DESCRIPTION:Join us for an unforgettable evening at the IWOO 2025 Gala\, where we come together to celebrate the power of mindfulness and community. Our theme\, “Empowered Women\, Peaceful World” reflects our commitment to fostering resilience\, compassion\, and unity. By attending this prestigious event\, you will not only enjoy a night of elegance\, entertainment\, and networking but also contribute to the vital work we do in strengthening our communities. \nDon’t miss out on this extraordinary event. Secure your spot at the IWOO 2025 Gala today and be part of a movement that is making a real difference.
URL:https://iwontario.com/event/gala2025/
LOCATION:Sheraton Parkway Toronto North Hotel & Suites\, 600 Hwy 7\, Richmond Hill\, Ontario\, L4B 1B2\, Canada
END:VEVENT
BEGIN:VEVENT
DTSTART;TZID=America/Toronto:20251210T170000
DTEND;TZID=America/Toronto:20251210T180000
DTSTAMP:20260422T225406
CREATED:20251202T183908Z
LAST-MODIFIED:20251208T162500Z
UID:10221450-1765386000-1765389600@iwontario.com
SUMMARY:Iranian Dance Workshop
DESCRIPTION:
URL:https://iwontario.com/event/idw/
LOCATION:Oriole Community Centre\, 2nd Floor 2975 Don Mills Rd W\, North York\, M2J 3B7\, Canada
ATTACH;FMTTYPE=image/png:/wp-content/uploads/2025/12/Dance-1-scaled.png
END:VEVENT
BEGIN:VEVENT
DTSTART;TZID=America/Toronto:20251211T173000
DTEND;TZID=America/Toronto:20251211T190000
DTSTAMP:20260422T225406
CREATED:20251129T093333Z
LAST-MODIFIED:20251203T183717Z
UID:10221400-1765474200-1765479600@iwontario.com
SUMMARY:Special Needs & Strong Foundations: Building Healthy Families from the Beginning In collaboration with Faranak Foundation
DESCRIPTION:
URL:https://iwontario.com/event/snsf/
LOCATION:Online
ATTACH;FMTTYPE=image/png:/wp-content/uploads/2025/11/Special-Needs-1-scaled.png
END:VEVENT
BEGIN:VEVENT
DTSTART;TZID=America/Toronto:20251217T170000
DTEND;TZID=America/Toronto:20251217T180000
DTSTAMP:20260422T225406
CREATED:20251202T184318Z
LAST-MODIFIED:20251208T162504Z
UID:10221451-1765990800-1765994400@iwontario.com
SUMMARY:Azeri Dance Workshop
DESCRIPTION:
URL:https://iwontario.com/event/adw/
LOCATION:Oriole Community Centre\, 2nd Floor 2975 Don Mills Rd W\, North York\, M2J 3B7\, Canada
ATTACH;FMTTYPE=image/png:/wp-content/uploads/2025/12/Dance-1-scaled.png
END:VEVENT
BEGIN:VEVENT
DTSTART;TZID=America/Toronto:20260105T093000
DTEND;TZID=America/Toronto:20260105T110000
DTSTAMP:20260422T225406
CREATED:20251229T210607Z
LAST-MODIFIED:20260106T035413Z
UID:10222805-1767605400-1767610800@iwontario.com
SUMMARY:Senior English Cafe - In person
DESCRIPTION:
URL:https://iwontario.com/event/senior-english-cafe-in-person/2026-01-05/
LOCATION:1761 Sheppar Ave E\, 1761 Sheppard Avenue East\, Toronto\, ON\, M2J 0A5\, Canada
END:VEVENT
BEGIN:VEVENT
DTSTART;TZID=America/Toronto:20260106T093000
DTEND;TZID=America/Toronto:20260106T110000
DTSTAMP:20260422T225406
CREATED:20251230T153859Z
LAST-MODIFIED:20260106T035408Z
UID:10223410-1767691800-1767697200@iwontario.com
SUMMARY:English Conversation Class Intermediate Level
DESCRIPTION:
URL:https://iwontario.com/event/eccl2/2026-01-06/
LOCATION:Online
ATTACH;FMTTYPE=image/png:/wp-content/uploads/2025/12/english-class-scaled.png
END:VEVENT
BEGIN:VEVENT
DTSTART;TZID=America/Toronto:20260106T100000
DTEND;TZID=America/Toronto:20260106T130000
DTSTAMP:20260422T225406
CREATED:20251230T175058Z
LAST-MODIFIED:20260106T035405Z
UID:10223639-1767693600-1767704400@iwontario.com
SUMMARY:Job Assistant Counselling - online
DESCRIPTION:
URL:https://iwontario.com/event/job-assistant-counselling-online/2026-01-06/
LOCATION:Online
END:VEVENT
BEGIN:VEVENT
DTSTART;TZID=America/Toronto:20260106T113000
DTEND;TZID=America/Toronto:20260106T130000
DTSTAMP:20260422T225406
CREATED:20251229T195534Z
LAST-MODIFIED:20260106T035400Z
UID:10215055-1767699000-1767704400@iwontario.com
SUMMARY:Let's Speak English - Online
DESCRIPTION:
URL:https://iwontario.com/event/lets-speak-english-26/2026-01-06/
LOCATION:Online
CATEGORIES:Settlement & Newcomer
END:VEVENT
BEGIN:VEVENT
DTSTART;TZID=America/Toronto:20260107T093000
DTEND;TZID=America/Toronto:20260107T120000
DTSTAMP:20260422T225406
CREATED:20260106T172007Z
LAST-MODIFIED:20260106T172007Z
UID:10224331-1767778200-1767787200@iwontario.com
SUMMARY:Settlement Services
DESCRIPTION:
URL:https://iwontario.com/event/settlement-services/2026-01-07/
LOCATION:1761 Sheppar Ave E\, 1761 Sheppard Avenue East\, Toronto\, ON\, M2J 0A5\, Canada
END:VEVENT
BEGIN:VEVENT
DTSTART;TZID=America/Toronto:20260107T160000
DTEND;TZID=America/Toronto:20260107T170000
DTSTAMP:20260422T225406
CREATED:20251230T165944Z
LAST-MODIFIED:20260106T035355Z
UID:10223614-1767801600-1767805200@iwontario.com
SUMMARY:Mindfulness & Meditation
DESCRIPTION:
URL:https://iwontario.com/event/mindfulness-meditation/2026-01-07/
LOCATION:Oriole Community Centre\, 2nd Floor 2975 Don Mills Rd W\, North York\, M2J 3B7\, Canada
END:VEVENT
BEGIN:VEVENT
DTSTART;TZID=America/Toronto:20260107T170000
DTEND;TZID=America/Toronto:20260107T180000
DTSTAMP:20260422T225406
CREATED:20251230T175837Z
LAST-MODIFIED:20260106T035349Z
UID:10223704-1767805200-1767808800@iwontario.com
SUMMARY:Persian Dance Class - In person
DESCRIPTION:
URL:https://iwontario.com/event/persian-dance-class-in-person/2026-01-07/
LOCATION:Oriole Community Centre\, 2nd Floor 2975 Don Mills Rd W\, North York\, M2J 3B7\, Canada
END:VEVENT
BEGIN:VEVENT
DTSTART;TZID=America/Toronto:20260108T160000
DTEND;TZID=America/Toronto:20260108T170000
DTSTAMP:20260422T225406
CREATED:20251230T182556Z
LAST-MODIFIED:20260107T210207Z
UID:10223897-1767888000-1767891600@iwontario.com
SUMMARY:Zumba - In person
DESCRIPTION:
URL:https://iwontario.com/event/zumba-in-person/2026-01-08/
LOCATION:Parkway Forest Community Centre\, 55 Parkway Forest Rd. 2nd Floor\, Toronto\, Ontario\, M2J 1G3\, Canada
END:VEVENT
BEGIN:VEVENT
DTSTART;TZID=America/Toronto:20260108T170000
DTEND;TZID=America/Toronto:20260108T180000
DTSTAMP:20260422T225406
CREATED:20251230T183012Z
LAST-MODIFIED:20260107T210158Z
UID:10224001-1767891600-1767895200@iwontario.com
SUMMARY:Yoga Class - In person
DESCRIPTION:
URL:https://iwontario.com/event/yoga-in-person/2026-01-08/
LOCATION:Parkway Forest Community Centre\, 55 Parkway Forest Rd. 2nd Floor\, Toronto\, Ontario\, M2J 1G3\, Canada
END:VEVENT
BEGIN:VEVENT
DTSTART;TZID=America/Toronto:20260108T190000
DTEND;TZID=America/Toronto:20260108T220000
DTSTAMP:20260422T225406
CREATED:20251230T184316Z
LAST-MODIFIED:20260106T035332Z
UID:10224078-1767898800-1767909600@iwontario.com
SUMMARY:Choir Class - In person
DESCRIPTION:
URL:https://iwontario.com/event/choir-class-in-person/2026-01-08/
LOCATION:1761 Sheppar Ave E\, 1761 Sheppard Avenue East\, Toronto\, ON\, M2J 0A5\, Canada
END:VEVENT
BEGIN:VEVENT
DTSTART;TZID=America/Toronto:20260109T090000
DTEND;TZID=America/Toronto:20260109T170000
DTSTAMP:20260422T225406
CREATED:20260106T172150Z
LAST-MODIFIED:20260106T172150Z
UID:10224592-1767949200-1767978000@iwontario.com
SUMMARY:Mental Health Clinic
DESCRIPTION:
URL:https://iwontario.com/event/mental-health-clinic/2026-01-09/
LOCATION:1761 Sheppar Ave E\, 1761 Sheppard Avenue East\, Toronto\, ON\, M2J 0A5\, Canada
END:VEVENT
BEGIN:VEVENT
DTSTART;TZID=America/Toronto:20260112T153000
DTEND;TZID=America/Toronto:20260112T170000
DTSTAMP:20260422T225406
CREATED:20251216T210831Z
LAST-MODIFIED:20260106T035328Z
UID:10221610-1768231800-1768237200@iwontario.com
SUMMARY:English for Employment
DESCRIPTION:
URL:https://iwontario.com/event/enghire/2026-01-12/
LOCATION:Online
ATTACH;FMTTYPE=image/png:/wp-content/uploads/2025/12/English-for-Employment-scaled.png
END:VEVENT
BEGIN:VEVENT
DTSTART;TZID=America/Toronto:20260112T190000
DTEND;TZID=America/Toronto:20260112T210000
DTSTAMP:20260422T225406
CREATED:20251224T160353Z
LAST-MODIFIED:20260106T035323Z
UID:10221893-1768244400-1768251600@iwontario.com
SUMMARY:Book Club
DESCRIPTION:
URL:https://iwontario.com/event/book-club/2026-01-12/
LOCATION:Online
END:VEVENT
BEGIN:VEVENT
DTSTART;TZID=America/Toronto:20260113T150000
DTEND;TZID=America/Toronto:20260113T170000
DTSTAMP:20260422T225406
CREATED:20251215T215336Z
LAST-MODIFIED:20260106T035318Z
UID:10221608-1768316400-1768323600@iwontario.com
SUMMARY:Microsoft Word Class
DESCRIPTION:
URL:https://iwontario.com/event/word26/2026-01-13/
LOCATION:Online
ATTACH;FMTTYPE=image/png:/wp-content/uploads/2025/12/Word-scaled.png
END:VEVENT
BEGIN:VEVENT
DTSTART;TZID=America/Toronto:20260114T100000
DTEND;TZID=America/Toronto:20260114T110000
DTSTAMP:20260422T225406
CREATED:20251229T204745Z
LAST-MODIFIED:20260106T035309Z
UID:10222439-1768384800-1768388400@iwontario.com
SUMMARY:Wellness Support Group - Online
DESCRIPTION:
URL:https://iwontario.com/event/wellness-support-group-online/2026-01-14/
LOCATION:Online
END:VEVENT
BEGIN:VEVENT
DTSTART;TZID=America/Toronto:20260120T173000
DTEND;TZID=America/Toronto:20260120T190000
DTSTAMP:20260422T225406
CREATED:20251216T211033Z
LAST-MODIFIED:20260106T035250Z
UID:10221611-1768930200-1768935600@iwontario.com
SUMMARY:شاهنامه خوانی
DESCRIPTION:
URL:https://iwontario.com/event/shread/2026-01-20/
LOCATION:Online
CATEGORIES:Art & Culture
ATTACH;FMTTYPE=image/png:/wp-content/uploads/2025/12/Shahnameh-Reading-scaled.png
END:VEVENT
BEGIN:VEVENT
DTSTART;TZID=America/Toronto:20260127T100000
DTEND;TZID=America/Toronto:20260127T130000
DTSTAMP:20260422T225406
CREATED:20260127T214249Z
LAST-MODIFIED:20260127T214431Z
UID:10224856-1769508000-1769518800@iwontario.com
SUMMARY:Looking for a strong start to your career?
DESCRIPTION:
URL:https://iwontario.com/event/looking-for-a-strong-start-to-your-career/2026-01-27/
LOCATION:Online
ATTACH;FMTTYPE=image/png:/wp-content/uploads/2026/01/career.png
END:VEVENT
END:VCALENDAR