BEGIN:VCALENDAR
VERSION:2.0
PRODID:-//Iranian Women&#039;s Organization of Ontario - ECPv6.15.20//NONSGML v1.0//EN
CALSCALE:GREGORIAN
METHOD:PUBLISH
X-ORIGINAL-URL:https://iwontario.com
X-WR-CALDESC:Events for Iranian Women&#039;s Organization of Ontario
REFRESH-INTERVAL;VALUE=DURATION:PT1H
X-Robots-Tag:noindex
X-PUBLISHED-TTL:PT1H
BEGIN:VTIMEZONE
TZID:America/Toronto
BEGIN:DAYLIGHT
TZOFFSETFROM:-0500
TZOFFSETTO:-0400
TZNAME:EDT
DTSTART:20250309T070000
END:DAYLIGHT
BEGIN:STANDARD
TZOFFSETFROM:-0400
TZOFFSETTO:-0500
TZNAME:EST
DTSTART:20251102T060000
END:STANDARD
BEGIN:DAYLIGHT
TZOFFSETFROM:-0500
TZOFFSETTO:-0400
TZNAME:EDT
DTSTART:20260308T070000
END:DAYLIGHT
BEGIN:STANDARD
TZOFFSETFROM:-0400
TZOFFSETTO:-0500
TZNAME:EST
DTSTART:20261101T060000
END:STANDARD
BEGIN:DAYLIGHT
TZOFFSETFROM:-0500
TZOFFSETTO:-0400
TZNAME:EDT
DTSTART:20270314T070000
END:DAYLIGHT
BEGIN:STANDARD
TZOFFSETFROM:-0400
TZOFFSETTO:-0500
TZNAME:EST
DTSTART:20271107T060000
END:STANDARD
END:VTIMEZONE
BEGIN:VEVENT
DTSTART;TZID=America/Toronto:20260114T093000
DTEND;TZID=America/Toronto:20260114T120000
DTSTAMP:20260419T160323
CREATED:20260106T172007Z
LAST-MODIFIED:20260106T172007Z
UID:10224332-1768383000-1768392000@iwontario.com
SUMMARY:Settlement Services
DESCRIPTION:
URL:https://iwontario.com/event/settlement-services/2026-01-14/
LOCATION:1761 Sheppar Ave E\, 1761 Sheppard Avenue East\, Toronto\, ON\, M2J 0A5\, Canada
END:VEVENT
BEGIN:VEVENT
DTSTART;TZID=America/Toronto:20260114T100000
DTEND;TZID=America/Toronto:20260114T110000
DTSTAMP:20260419T160323
CREATED:20251229T204745Z
LAST-MODIFIED:20260106T035309Z
UID:10222439-1768384800-1768388400@iwontario.com
SUMMARY:Wellness Support Group - Online
DESCRIPTION:
URL:https://iwontario.com/event/wellness-support-group-online/2026-01-14/
LOCATION:Online
END:VEVENT
BEGIN:VEVENT
DTSTART;TZID=America/Toronto:20260114T160000
DTEND;TZID=America/Toronto:20260114T170000
DTSTAMP:20260419T160323
CREATED:20251230T165944Z
LAST-MODIFIED:20260106T035355Z
UID:10223615-1768406400-1768410000@iwontario.com
SUMMARY:Mindfulness & Meditation
DESCRIPTION:
URL:https://iwontario.com/event/mindfulness-meditation/2026-01-14/
LOCATION:Oriole Community Centre\, 2nd Floor 2975 Don Mills Rd W\, North York\, M2J 3B7\, Canada
END:VEVENT
BEGIN:VEVENT
DTSTART;TZID=America/Toronto:20260114T170000
DTEND;TZID=America/Toronto:20260114T180000
DTSTAMP:20260419T160323
CREATED:20251230T175837Z
LAST-MODIFIED:20260106T035349Z
UID:10223705-1768410000-1768413600@iwontario.com
SUMMARY:Persian Dance Class - In person
DESCRIPTION:
URL:https://iwontario.com/event/persian-dance-class-in-person/2026-01-14/
LOCATION:Oriole Community Centre\, 2nd Floor 2975 Don Mills Rd W\, North York\, M2J 3B7\, Canada
END:VEVENT
END:VCALENDAR